BEGIN:VCALENDAR
VERSION:2.0
PRODID:-//Dresdner Ruderverein - ECPv6.15.20//NONSGML v1.0//EN
CALSCALE:GREGORIAN
METHOD:PUBLISH
X-WR-CALNAME:Dresdner Ruderverein
X-ORIGINAL-URL:https://www.dresdnerruderverein.de
X-WR-CALDESC:Veranstaltungen für Dresdner Ruderverein
REFRESH-INTERVAL;VALUE=DURATION:PT1H
X-Robots-Tag:noindex
X-PUBLISHED-TTL:PT1H
BEGIN:VTIMEZONE
TZID:Europe/Berlin
BEGIN:DAYLIGHT
TZOFFSETFROM:+0100
TZOFFSETTO:+0200
TZNAME:CEST
DTSTART:20250330T010000
END:DAYLIGHT
BEGIN:STANDARD
TZOFFSETFROM:+0200
TZOFFSETTO:+0100
TZNAME:CET
DTSTART:20251026T010000
END:STANDARD
BEGIN:DAYLIGHT
TZOFFSETFROM:+0100
TZOFFSETTO:+0200
TZNAME:CEST
DTSTART:20260329T010000
END:DAYLIGHT
BEGIN:STANDARD
TZOFFSETFROM:+0200
TZOFFSETTO:+0100
TZNAME:CET
DTSTART:20261025T010000
END:STANDARD
BEGIN:DAYLIGHT
TZOFFSETFROM:+0100
TZOFFSETTO:+0200
TZNAME:CEST
DTSTART:20270328T010000
END:DAYLIGHT
BEGIN:STANDARD
TZOFFSETFROM:+0200
TZOFFSETTO:+0100
TZNAME:CET
DTSTART:20271031T010000
END:STANDARD
END:VTIMEZONE
BEGIN:VEVENT
DTSTART;TZID=Europe/Berlin:20260509T000000
DTEND;TZID=Europe/Berlin:20260510T235959
DTSTAMP:20260419T170033
CREATED:20260212T221110Z
LAST-MODIFIED:20260212T221113Z
UID:2423-1778284800-1778457599@www.dresdnerruderverein.de
SUMMARY:Regatta Eilenburg
DESCRIPTION:
URL:https://www.dresdnerruderverein.de/event/regatta-eilenburg-3/
CATEGORIES:Regatten
END:VEVENT
BEGIN:VEVENT
DTSTART;TZID=Europe/Berlin:20260509T000000
DTEND;TZID=Europe/Berlin:20260510T235959
DTSTAMP:20260419T170033
CREATED:20260212T221953Z
LAST-MODIFIED:20260212T221954Z
UID:2433-1778284800-1778457599@www.dresdnerruderverein.de
SUMMARY:DRV-Juniorenregatta
DESCRIPTION:
URL:https://www.dresdnerruderverein.de/event/drv-juniorenregatta/
LOCATION:München\, Dachauer Str. 35\, Oberschleißheim\, 85764\, Deutschland
CATEGORIES:Regatten
END:VEVENT
END:VCALENDAR